BEGIN:VCALENDAR
VERSION:2.0
PRODID:-//Strawson Family Website - ECPv6.15.13//NONSGML v1.0//EN
CALSCALE:GREGORIAN
METHOD:PUBLISH
X-WR-CALNAME:Strawson Family Website
X-ORIGINAL-URL:https://www.strawsonfamily.org
X-WR-CALDESC:Events for Strawson Family Website
REFRESH-INTERVAL;VALUE=DURATION:PT1H
X-Robots-Tag:noindex
X-PUBLISHED-TTL:PT1H
BEGIN:VTIMEZONE
TZID:America/New_York
BEGIN:DAYLIGHT
TZOFFSETFROM:-0500
TZOFFSETTO:-0400
TZNAME:EDT
DTSTART:20200308T070000
END:DAYLIGHT
BEGIN:STANDARD
TZOFFSETFROM:-0400
TZOFFSETTO:-0500
TZNAME:EST
DTSTART:20201101T060000
END:STANDARD
BEGIN:DAYLIGHT
TZOFFSETFROM:-0500
TZOFFSETTO:-0400
TZNAME:EDT
DTSTART:20210314T070000
END:DAYLIGHT
BEGIN:STANDARD
TZOFFSETFROM:-0400
TZOFFSETTO:-0500
TZNAME:EST
DTSTART:20211107T060000
END:STANDARD
BEGIN:DAYLIGHT
TZOFFSETFROM:-0500
TZOFFSETTO:-0400
TZNAME:EDT
DTSTART:20220313T070000
END:DAYLIGHT
BEGIN:STANDARD
TZOFFSETFROM:-0400
TZOFFSETTO:-0500
TZNAME:EST
DTSTART:20221106T060000
END:STANDARD
BEGIN:DAYLIGHT
TZOFFSETFROM:-0500
TZOFFSETTO:-0400
TZNAME:EDT
DTSTART:20230312T070000
END:DAYLIGHT
BEGIN:STANDARD
TZOFFSETFROM:-0400
TZOFFSETTO:-0500
TZNAME:EST
DTSTART:20231105T060000
END:STANDARD
BEGIN:DAYLIGHT
TZOFFSETFROM:-0500
TZOFFSETTO:-0400
TZNAME:EDT
DTSTART:20240310T070000
END:DAYLIGHT
BEGIN:STANDARD
TZOFFSETFROM:-0400
TZOFFSETTO:-0500
TZNAME:EST
DTSTART:20241103T060000
END:STANDARD
BEGIN:DAYLIGHT
TZOFFSETFROM:-0500
TZOFFSETTO:-0400
TZNAME:EDT
DTSTART:20250309T070000
END:DAYLIGHT
BEGIN:STANDARD
TZOFFSETFROM:-0400
TZOFFSETTO:-0500
TZNAME:EST
DTSTART:20251102T060000
END:STANDARD
BEGIN:DAYLIGHT
TZOFFSETFROM:-0500
TZOFFSETTO:-0400
TZNAME:EDT
DTSTART:20260308T070000
END:DAYLIGHT
BEGIN:STANDARD
TZOFFSETFROM:-0400
TZOFFSETTO:-0500
TZNAME:EST
DTSTART:20261101T060000
END:STANDARD
END:VTIMEZONE
BEGIN:VEVENT
DTSTART;TZID=America/New_York:20250920T150000
DTEND;TZID=America/New_York:20250929T090000
DTSTAMP:20260425T113331
CREATED:20250502T160000Z
LAST-MODIFIED:20250502T160325Z
UID:361-1758380400-1759136400@www.strawsonfamily.org
SUMMARY:Eliza Bailey (Cabin)
DESCRIPTION:Eliza Bailey (Cabin) (9 days)
URL:https://www.strawsonfamily.org/event/eliza-bailey-cabin/
LOCATION:Cabin\, Vinalhaven\, ME\, United States
END:VEVENT
BEGIN:VEVENT
DTSTART;TZID=America/New_York:20250823T150000
DTEND;TZID=America/New_York:20250830T090000
DTSTAMP:20260425T113331
CREATED:20250502T155841Z
LAST-MODIFIED:20250502T155841Z
UID:359-1755961200-1756544400@www.strawsonfamily.org
SUMMARY:Susan\, Tom & Leslie Tenney (House & Cabin)
DESCRIPTION:Susan\, Tom & Leslie Tenney (House & Cabin)
URL:https://www.strawsonfamily.org/event/susan-tom-leslie-tenney-house-cabin/
LOCATION:House & Cabin\, Vinalhaven\, ME\, United States
END:VEVENT
BEGIN:VEVENT
DTSTART;TZID=America/New_York:20250816T150000
DTEND;TZID=America/New_York:20250823T090000
DTSTAMP:20260425T113331
CREATED:20250502T161155Z
LAST-MODIFIED:20250502T161155Z
UID:363-1755356400-1755939600@www.strawsonfamily.org
SUMMARY:Katie O'Mealia Arkins (House & Cabin)
DESCRIPTION:Katie O’Mealia Arkins (House & Cabin)
URL:https://www.strawsonfamily.org/event/katie-omealia-arkins-house-cabin/
LOCATION:House & Cabin\, Vinalhaven\, ME\, United States
END:VEVENT
BEGIN:VEVENT
DTSTART;TZID=America/New_York:20250809T150000
DTEND;TZID=America/New_York:20250816T090000
DTSTAMP:20260425T113331
CREATED:20250502T155702Z
LAST-MODIFIED:20250502T155702Z
UID:357-1754751600-1755334800@www.strawsonfamily.org
SUMMARY:Mary Ellen Kelly (House & Cabin)
DESCRIPTION:Mary Ellen Kelly (House & Cabin)
URL:https://www.strawsonfamily.org/event/mary-ellen-kelly-house-cabin/
LOCATION:House & Cabin\, Vinalhaven\, ME\, United States
END:VEVENT
BEGIN:VEVENT
DTSTART;TZID=America/New_York:20250726T150000
DTEND;TZID=America/New_York:20250809T090000
DTSTAMP:20260425T113331
CREATED:20250502T155314Z
LAST-MODIFIED:20250502T160435Z
UID:353-1753542000-1754730000@www.strawsonfamily.org
SUMMARY:Carol Strawson & Family (House & Cabin)
DESCRIPTION:Carol Strawson & Family (House & Cabin) (2 weeks)
URL:https://www.strawsonfamily.org/event/carol-strawson-family-house-cabin/
LOCATION:House & Cabin\, Vinalhaven\, ME\, United States
END:VEVENT
BEGIN:VEVENT
DTSTART;TZID=America/New_York:20250712T150000
DTEND;TZID=America/New_York:20250726T090000
DTSTAMP:20260425T113331
CREATED:20250502T155155Z
LAST-MODIFIED:20250502T160529Z
UID:351-1752332400-1753520400@www.strawsonfamily.org
SUMMARY:Howard Ross (House & Cabin)
DESCRIPTION:Howard Ross (House & Cabin) (2 weeks)
URL:https://www.strawsonfamily.org/event/howard-ross-house-cabin/
LOCATION:House & Cabin\, Vinalhaven\, ME\, United States
END:VEVENT
BEGIN:VEVENT
DTSTART;TZID=America/New_York:20250705T150000
DTEND;TZID=America/New_York:20250712T090000
DTSTAMP:20260425T113331
CREATED:20250502T155050Z
LAST-MODIFIED:20250502T160614Z
UID:349-1751727600-1752310800@www.strawsonfamily.org
SUMMARY:Susan Tenney / Sheila Berry
DESCRIPTION:Susan Tenney (House) / Sheila Berry (Cabin)
URL:https://www.strawsonfamily.org/event/susan-tenney-sheila-berry/
LOCATION:House & Cabin\, Vinalhaven\, ME\, United States
END:VEVENT
BEGIN:VEVENT
DTSTART;TZID=America/New_York:20250628T150000
DTEND;TZID=America/New_York:20250705T090000
DTSTAMP:20260425T113331
CREATED:20250502T154932Z
LAST-MODIFIED:20250502T160654Z
UID:347-1751122800-1751706000@www.strawsonfamily.org
SUMMARY:Shiela Berry (House & Cabin)
DESCRIPTION:Shiela Berry (House & Cabin)
URL:https://www.strawsonfamily.org/event/shiela-berry-house-cabin/
LOCATION:House & Cabin\, Vinalhaven\, ME\, United States
END:VEVENT
BEGIN:VEVENT
DTSTART;TZID=America/New_York:20241005T150000
DTEND;TZID=America/New_York:20241012T150000
DTSTAMP:20260425T113331
CREATED:20240302T031922Z
LAST-MODIFIED:20240302T031922Z
UID:335-1728140400-1728745200@www.strawsonfamily.org
SUMMARY:Anne Strawson
DESCRIPTION:House & Cabin \n 
URL:https://www.strawsonfamily.org/event/anne-strawson-2/
LOCATION:House & Cabin\, Vinalhaven\, ME\, United States
END:VEVENT
BEGIN:VEVENT
DTSTART;TZID=America/New_York:20240907T150000
DTEND;TZID=America/New_York:20240914T090000
DTSTAMP:20260425T113331
CREATED:20240306T141502Z
LAST-MODIFIED:20240306T141502Z
UID:339-1725721200-1726304400@www.strawsonfamily.org
SUMMARY:Jean Strawson / Rober Radcliffe
DESCRIPTION:House & Cabin
URL:https://www.strawsonfamily.org/event/jean-strawson-rober-radcliffe/
LOCATION:House & Cabin\, Vinalhaven\, ME\, United States
END:VEVENT
BEGIN:VEVENT
DTSTART;TZID=America/New_York:20240824T150000
DTEND;TZID=America/New_York:20240907T090000
DTSTAMP:20260425T113331
CREATED:20240302T031814Z
LAST-MODIFIED:20240302T031814Z
UID:333-1724511600-1725699600@www.strawsonfamily.org
SUMMARY:Phyllis & Jimbo Baker
DESCRIPTION:House & Cabin \n 
URL:https://www.strawsonfamily.org/event/phyllis-jimbo-baker/
LOCATION:House & Cabin\, Vinalhaven\, ME\, United States
END:VEVENT
BEGIN:VEVENT
DTSTART;TZID=America/New_York:20240810T150000
DTEND;TZID=America/New_York:20240817T090000
DTSTAMP:20260425T113331
CREATED:20240302T031704Z
LAST-MODIFIED:20240302T031704Z
UID:331-1723302000-1723885200@www.strawsonfamily.org
SUMMARY:Barb Strawson & Brian Scrivens
DESCRIPTION:House & Cabin \n 
URL:https://www.strawsonfamily.org/event/barb-strawson-brian-scrivens/
LOCATION:Cabin\, Vinalhaven\, ME\, United States
END:VEVENT
BEGIN:VEVENT
DTSTART;TZID=America/New_York:20240803T150000
DTEND;TZID=America/New_York:20240810T090000
DTSTAMP:20260425T113331
CREATED:20240302T031524Z
LAST-MODIFIED:20240302T031524Z
UID:329-1722697200-1723280400@www.strawsonfamily.org
SUMMARY:Carol Strawson
DESCRIPTION:House & Cabin \n 
URL:https://www.strawsonfamily.org/event/carol-strawson-3/
LOCATION:House & Cabin\, Vinalhaven\, ME\, United States
END:VEVENT
BEGIN:VEVENT
DTSTART;TZID=America/New_York:20240727T150000
DTEND;TZID=America/New_York:20240803T150000
DTSTAMP:20260425T113331
CREATED:20240312T000541Z
LAST-MODIFIED:20240312T000541Z
UID:342-1722092400-1722697200@www.strawsonfamily.org
SUMMARY:Mary Ellen Kelly
DESCRIPTION:House & Cabin
URL:https://www.strawsonfamily.org/event/mary-ellen-kelly/
LOCATION:House & Cabin\, Vinalhaven\, ME\, United States
END:VEVENT
BEGIN:VEVENT
DTSTART;TZID=America/New_York:20240720T150000
DTEND;TZID=America/New_York:20240727T150000
DTSTAMP:20260425T113331
CREATED:20240302T031419Z
LAST-MODIFIED:20240302T031419Z
UID:327-1721487600-1722092400@www.strawsonfamily.org
SUMMARY:Ben & Madeline Loughin
DESCRIPTION:House & Cabin \n 
URL:https://www.strawsonfamily.org/event/ben-madeline-loughin/
LOCATION:House & Cabin\, Vinalhaven\, ME\, United States
END:VEVENT
BEGIN:VEVENT
DTSTART;TZID=America/New_York:20240706T150000
DTEND;TZID=America/New_York:20240720T150000
DTSTAMP:20260425T113331
CREATED:20240302T031249Z
LAST-MODIFIED:20240302T032133Z
UID:325-1720278000-1721487600@www.strawsonfamily.org
SUMMARY:Tenney Family
DESCRIPTION:House & Cabin \n  \n 
URL:https://www.strawsonfamily.org/event/tenney-family/
LOCATION:House & Cabin\, Vinalhaven\, ME\, United States
END:VEVENT
BEGIN:VEVENT
DTSTART;TZID=America/New_York:20240629T150000
DTEND;TZID=America/New_York:20240706T090000
DTSTAMP:20260425T113331
CREATED:20240302T031110Z
LAST-MODIFIED:20240302T031110Z
UID:323-1719673200-1720256400@www.strawsonfamily.org
SUMMARY:James Ross
DESCRIPTION:House & Cabin
URL:https://www.strawsonfamily.org/event/james-ross/
LOCATION:House & Cabin\, Vinalhaven\, ME\, United States
END:VEVENT
BEGIN:VEVENT
DTSTART;TZID=America/New_York:20230916T150000
DTEND;TZID=America/New_York:20230923T090000
DTSTAMP:20260425T113331
CREATED:20230414T172154Z
LAST-MODIFIED:20230414T172154Z
UID:319-1694876400-1695459600@www.strawsonfamily.org
SUMMARY:Eliza Bailey
DESCRIPTION:Cabin
URL:https://www.strawsonfamily.org/event/eliza-bailey/
LOCATION:Cabin\, Vinalhaven\, ME\, United States
END:VEVENT
BEGIN:VEVENT
DTSTART;TZID=America/New_York:20220911T150000
DTEND;TZID=America/New_York:20220917T110000
DTSTAMP:20260425T113331
CREATED:20220325T195232Z
LAST-MODIFIED:20220329T173554Z
UID:265-1662908400-1663412400@www.strawsonfamily.org
SUMMARY:Leonard/Marra Family
DESCRIPTION:House – Barbara Leonard
URL:https://www.strawsonfamily.org/event/leonard-family/
LOCATION:House\, Vinalhaven\, ME\, United States
END:VEVENT
BEGIN:VEVENT
DTSTART;TZID=America/New_York:20220903T150000
DTEND;TZID=America/New_York:20220911T110000
DTSTAMP:20260425T113331
CREATED:20220325T150058Z
LAST-MODIFIED:20220325T150058Z
UID:261-1662217200-1662894000@www.strawsonfamily.org
SUMMARY:Berry Family
DESCRIPTION:House – Sheila Berry & Family
URL:https://www.strawsonfamily.org/event/berry-family/
LOCATION:House\, Vinalhaven\, ME\, United States
END:VEVENT
BEGIN:VEVENT
DTSTART;TZID=America/New_York:20220806T150000
DTEND;TZID=America/New_York:20220813T150000
DTSTAMP:20260425T113331
CREATED:20220308T144834Z
LAST-MODIFIED:20220729T191845Z
UID:241-1659798000-1660402800@www.strawsonfamily.org
SUMMARY:Carol Strawson
DESCRIPTION:Cabin
URL:https://www.strawsonfamily.org/event/jamie-omealia/
LOCATION:Cabin\, Vinalhaven\, ME\, United States
END:VEVENT
BEGIN:VEVENT
DTSTART;TZID=America/New_York:20220806T150000
DTEND;TZID=America/New_York:20220813T110000
DTSTAMP:20260425T113331
CREATED:20220308T144744Z
LAST-MODIFIED:20220308T144744Z
UID:239-1659798000-1660388400@www.strawsonfamily.org
SUMMARY:Ben Loughin
DESCRIPTION:House
URL:https://www.strawsonfamily.org/event/ben-loughin/
LOCATION:House\, Vinalhaven\, ME\, United States
END:VEVENT
BEGIN:VEVENT
DTSTART;TZID=America/New_York:20220729T150000
DTEND;TZID=America/New_York:20220805T110000
DTSTAMP:20260425T113331
CREATED:20220308T223818Z
LAST-MODIFIED:20220706T191628Z
UID:245-1659106800-1659697200@www.strawsonfamily.org
SUMMARY:Susan and Leslie
DESCRIPTION:House & Cabin – no cleaning needed before Tom Tenny on 8/6/22.
URL:https://www.strawsonfamily.org/event/susan-and-leslie/
LOCATION:House & Cabin\, Vinalhaven\, ME\, United States
END:VEVENT
BEGIN:VEVENT
DTSTART;TZID=America/New_York:20220723T150000
DTEND;TZID=America/New_York:20220730T110000
DTSTAMP:20260425T113331
CREATED:20220308T223716Z
LAST-MODIFIED:20220308T223716Z
UID:243-1658588400-1659178800@www.strawsonfamily.org
SUMMARY:Tom Tenney
DESCRIPTION:House
URL:https://www.strawsonfamily.org/event/tom-tenney-2/
LOCATION:House\, Vinalhaven\, ME\, United States
END:VEVENT
BEGIN:VEVENT
DTSTART;TZID=America/New_York:20220716T150000
DTEND;TZID=America/New_York:20220723T110000
DTSTAMP:20260425T113331
CREATED:20220308T223920Z
LAST-MODIFIED:20220308T223920Z
UID:247-1657983600-1658574000@www.strawsonfamily.org
SUMMARY:David Ross
DESCRIPTION:House & Cabin
URL:https://www.strawsonfamily.org/event/david-ross/
LOCATION:House & Cabin\, Vinalhaven\, ME\, United States
END:VEVENT
BEGIN:VEVENT
DTSTART;TZID=America/New_York:20220709T150000
DTEND;TZID=America/New_York:20220716T110000
DTSTAMP:20260425T113331
CREATED:20220308T144619Z
LAST-MODIFIED:20220308T144619Z
UID:237-1657378800-1657969200@www.strawsonfamily.org
SUMMARY:Carol Strawson
DESCRIPTION:House & Cabin
URL:https://www.strawsonfamily.org/event/carol-strawson/
LOCATION:House & Cabin\, Vinalhaven\, ME\, United States
END:VEVENT
BEGIN:VEVENT
DTSTART;VALUE=DATE:20220701
DTEND;VALUE=DATE:20220709
DTSTAMP:20260425T113331
CREATED:20220312T033532Z
LAST-MODIFIED:20220525T155711Z
UID:258-1656633600-1657324799@www.strawsonfamily.org
SUMMARY:Mary Ellen Kelly—House
DESCRIPTION:
URL:https://www.strawsonfamily.org/event/mary-ellen-kelly-house/
LOCATION:ME
END:VEVENT
BEGIN:VEVENT
DTSTART;TZID=America/New_York:20210925T150000
DTEND;TZID=America/New_York:20211002T090000
DTSTAMP:20260425T113331
CREATED:20210323T000201Z
LAST-MODIFIED:20210323T000543Z
UID:208-1632582000-1633165200@www.strawsonfamily.org
SUMMARY:Anne
DESCRIPTION:Cabin
URL:https://www.strawsonfamily.org/event/anne/
LOCATION:Cabin\, Vinalhaven\, ME\, United States
END:VEVENT
BEGIN:VEVENT
DTSTART;TZID=America/New_York:20210911T150000
DTEND;TZID=America/New_York:20210925T090000
DTSTAMP:20260425T113331
CREATED:20210323T000053Z
LAST-MODIFIED:20210323T000628Z
UID:206-1631372400-1632560400@www.strawsonfamily.org
SUMMARY:Phyllis\, Fred & Family
DESCRIPTION:House & Cabin
URL:https://www.strawsonfamily.org/event/phyllis-fred-family/
LOCATION:House & Cabin\, Vinalhaven\, ME\, United States
END:VEVENT
BEGIN:VEVENT
DTSTART;TZID=America/New_York:20210904T150000
DTEND;TZID=America/New_York:20210911T090000
DTSTAMP:20260425T113331
CREATED:20210322T235945Z
LAST-MODIFIED:20210323T000648Z
UID:204-1630767600-1631350800@www.strawsonfamily.org
SUMMARY:Ben Coburn
DESCRIPTION:Cabin
URL:https://www.strawsonfamily.org/event/ben-coburn/
LOCATION:Cabin\, Vinalhaven\, ME\, United States
END:VEVENT
END:VCALENDAR