BEGIN:VCALENDAR
VERSION:2.0
PRODID:-//Strawson Family Website - ECPv6.15.13//NONSGML v1.0//EN
CALSCALE:GREGORIAN
METHOD:PUBLISH
X-ORIGINAL-URL:https://www.strawsonfamily.org
X-WR-CALDESC:Events for Strawson Family Website
REFRESH-INTERVAL;VALUE=DURATION:PT1H
X-Robots-Tag:noindex
X-PUBLISHED-TTL:PT1H
BEGIN:VTIMEZONE
TZID:America/New_York
BEGIN:DAYLIGHT
TZOFFSETFROM:-0500
TZOFFSETTO:-0400
TZNAME:EDT
DTSTART:20240310T070000
END:DAYLIGHT
BEGIN:STANDARD
TZOFFSETFROM:-0400
TZOFFSETTO:-0500
TZNAME:EST
DTSTART:20241103T060000
END:STANDARD
BEGIN:DAYLIGHT
TZOFFSETFROM:-0500
TZOFFSETTO:-0400
TZNAME:EDT
DTSTART:20250309T070000
END:DAYLIGHT
BEGIN:STANDARD
TZOFFSETFROM:-0400
TZOFFSETTO:-0500
TZNAME:EST
DTSTART:20251102T060000
END:STANDARD
BEGIN:DAYLIGHT
TZOFFSETFROM:-0500
TZOFFSETTO:-0400
TZNAME:EDT
DTSTART:20260308T070000
END:DAYLIGHT
BEGIN:STANDARD
TZOFFSETFROM:-0400
TZOFFSETTO:-0500
TZNAME:EST
DTSTART:20261101T060000
END:STANDARD
END:VTIMEZONE
BEGIN:VEVENT
DTSTART;TZID=America/New_York:20250628T150000
DTEND;TZID=America/New_York:20250705T090000
DTSTAMP:20260425T124629
CREATED:20250502T154932Z
LAST-MODIFIED:20250502T160654Z
UID:347-1751122800-1751706000@www.strawsonfamily.org
SUMMARY:Shiela Berry (House & Cabin)
DESCRIPTION:Shiela Berry (House & Cabin)
URL:https://www.strawsonfamily.org/event/shiela-berry-house-cabin/
LOCATION:House & Cabin\, Vinalhaven\, ME\, United States
END:VEVENT
BEGIN:VEVENT
DTSTART;TZID=America/New_York:20250705T150000
DTEND;TZID=America/New_York:20250712T090000
DTSTAMP:20260425T124629
CREATED:20250502T155050Z
LAST-MODIFIED:20250502T160614Z
UID:349-1751727600-1752310800@www.strawsonfamily.org
SUMMARY:Susan Tenney / Sheila Berry
DESCRIPTION:Susan Tenney (House) / Sheila Berry (Cabin)
URL:https://www.strawsonfamily.org/event/susan-tenney-sheila-berry/
LOCATION:House & Cabin\, Vinalhaven\, ME\, United States
END:VEVENT
BEGIN:VEVENT
DTSTART;TZID=America/New_York:20250712T150000
DTEND;TZID=America/New_York:20250726T090000
DTSTAMP:20260425T124629
CREATED:20250502T155155Z
LAST-MODIFIED:20250502T160529Z
UID:351-1752332400-1753520400@www.strawsonfamily.org
SUMMARY:Howard Ross (House & Cabin)
DESCRIPTION:Howard Ross (House & Cabin) (2 weeks)
URL:https://www.strawsonfamily.org/event/howard-ross-house-cabin/
LOCATION:House & Cabin\, Vinalhaven\, ME\, United States
END:VEVENT
BEGIN:VEVENT
DTSTART;TZID=America/New_York:20250726T150000
DTEND;TZID=America/New_York:20250809T090000
DTSTAMP:20260425T124629
CREATED:20250502T155314Z
LAST-MODIFIED:20250502T160435Z
UID:353-1753542000-1754730000@www.strawsonfamily.org
SUMMARY:Carol Strawson & Family (House & Cabin)
DESCRIPTION:Carol Strawson & Family (House & Cabin) (2 weeks)
URL:https://www.strawsonfamily.org/event/carol-strawson-family-house-cabin/
LOCATION:House & Cabin\, Vinalhaven\, ME\, United States
END:VEVENT
END:VCALENDAR