BEGIN:VCALENDAR
VERSION:2.0
PRODID:-//Strawson Family Website - ECPv6.15.13//NONSGML v1.0//EN
CALSCALE:GREGORIAN
METHOD:PUBLISH
X-ORIGINAL-URL:https://www.strawsonfamily.org
X-WR-CALDESC:Events for Strawson Family Website
REFRESH-INTERVAL;VALUE=DURATION:PT1H
X-Robots-Tag:noindex
X-PUBLISHED-TTL:PT1H
BEGIN:VTIMEZONE
TZID:America/New_York
BEGIN:DAYLIGHT
TZOFFSETFROM:-0500
TZOFFSETTO:-0400
TZNAME:EDT
DTSTART:20250309T070000
END:DAYLIGHT
BEGIN:STANDARD
TZOFFSETFROM:-0400
TZOFFSETTO:-0500
TZNAME:EST
DTSTART:20251102T060000
END:STANDARD
BEGIN:DAYLIGHT
TZOFFSETFROM:-0500
TZOFFSETTO:-0400
TZNAME:EDT
DTSTART:20260308T070000
END:DAYLIGHT
BEGIN:STANDARD
TZOFFSETFROM:-0400
TZOFFSETTO:-0500
TZNAME:EST
DTSTART:20261101T060000
END:STANDARD
BEGIN:DAYLIGHT
TZOFFSETFROM:-0500
TZOFFSETTO:-0400
TZNAME:EDT
DTSTART:20270314T070000
END:DAYLIGHT
BEGIN:STANDARD
TZOFFSETFROM:-0400
TZOFFSETTO:-0500
TZNAME:EST
DTSTART:20271107T060000
END:STANDARD
END:VTIMEZONE
BEGIN:VEVENT
DTSTART;TZID=America/New_York:20260725T150000
DTEND;TZID=America/New_York:20260808T090000
DTSTAMP:20260423T102545
CREATED:20260311T150947Z
LAST-MODIFIED:20260311T150947Z
UID:367-1784991600-1786179600@www.strawsonfamily.org
SUMMARY:Steve Ross
DESCRIPTION:House & Cabin
URL:https://www.strawsonfamily.org/event/steve-ross/
LOCATION:House & Cabin\, Vinalhaven\, ME\, United States
END:VEVENT
END:VCALENDAR